BEGIN:VCALENDAR
VERSION:2.0
PRODID:-//Hunter River Dragons - ECPv6.15.19//NONSGML v1.0//EN
CALSCALE:GREGORIAN
METHOD:PUBLISH
X-WR-CALNAME:Hunter River Dragons
X-ORIGINAL-URL:https://hunterriverdragons.com.au
X-WR-CALDESC:Events for Hunter River Dragons
REFRESH-INTERVAL;VALUE=DURATION:PT1H
X-Robots-Tag:noindex
X-PUBLISHED-TTL:PT1H
BEGIN:VTIMEZONE
TZID:Australia/Sydney
BEGIN:STANDARD
TZOFFSETFROM:+1100
TZOFFSETTO:+1000
TZNAME:AEST
DTSTART:20220402T160000
END:STANDARD
BEGIN:DAYLIGHT
TZOFFSETFROM:+1000
TZOFFSETTO:+1100
TZNAME:AEDT
DTSTART:20221001T160000
END:DAYLIGHT
BEGIN:STANDARD
TZOFFSETFROM:+1100
TZOFFSETTO:+1000
TZNAME:AEST
DTSTART:20230401T160000
END:STANDARD
BEGIN:DAYLIGHT
TZOFFSETFROM:+1000
TZOFFSETTO:+1100
TZNAME:AEDT
DTSTART:20230930T160000
END:DAYLIGHT
BEGIN:STANDARD
TZOFFSETFROM:+1100
TZOFFSETTO:+1000
TZNAME:AEST
DTSTART:20240406T160000
END:STANDARD
BEGIN:DAYLIGHT
TZOFFSETFROM:+1000
TZOFFSETTO:+1100
TZNAME:AEDT
DTSTART:20241005T160000
END:DAYLIGHT
BEGIN:STANDARD
TZOFFSETFROM:+1100
TZOFFSETTO:+1000
TZNAME:AEST
DTSTART:20250405T160000
END:STANDARD
BEGIN:DAYLIGHT
TZOFFSETFROM:+1000
TZOFFSETTO:+1100
TZNAME:AEDT
DTSTART:20251004T160000
END:DAYLIGHT
END:VTIMEZONE
BEGIN:VEVENT
DTSTART;TZID=Australia/Sydney:20240225T083000
DTEND;TZID=Australia/Sydney:20240225T100000
DTSTAMP:20260423T075633
CREATED:20240109T000226Z
LAST-MODIFIED:20240109T000226Z
UID:3576-1708849800-1708855200@hunterriverdragons.com.au
SUMMARY:LEARN TO PADDLE - FREE BEGINNER SESSIONS
DESCRIPTION:Dragon Boating is an all inclusive paddle-driven water sport that is all about fun\, fitness and friendship. \nWhether you’re seeking a new challenge\, wanting to unleash your competitive spirit\, or looking to make new friends\, you should come and meet our team. \nHunter River Dragons are running four FREE “Learn to Paddle” sessions at Queens Wharf in Morpeth. \nCome and give it a go.
URL:https://hunterriverdragons.com.au/single_event/learn-to-paddle-free-beginner-sessions-4/
LOCATION:Morpeth Boat Ramp\, 3 Queens Wharf Road\, Morpeth\, NSW\, 2321\, Australia
END:VEVENT
BEGIN:VEVENT
DTSTART;TZID=Australia/Sydney:20240211T083000
DTEND;TZID=Australia/Sydney:20240211T100000
DTSTAMP:20260423T075633
CREATED:20240109T000109Z
LAST-MODIFIED:20240109T000109Z
UID:3574-1707640200-1707645600@hunterriverdragons.com.au
SUMMARY:LEARN TO PADDLE - FREE BEGINNER SESSIONS
DESCRIPTION:Dragon Boating is an all inclusive paddle-driven water sport that is all about fun\, fitness and friendship. \nWhether you’re seeking a new challenge\, wanting to unleash your competitive spirit\, or looking to make new friends\, you should come and meet our team. \nHunter River Dragons are running four FREE “Learn to Paddle” sessions at Queens Wharf in Morpeth. \nCome and give it a go.
URL:https://hunterriverdragons.com.au/single_event/learn-to-paddle-free-beginner-sessions-3/
LOCATION:Morpeth Boat Ramp\, 3 Queens Wharf Road\, Morpeth\, NSW\, 2321\, Australia
END:VEVENT
BEGIN:VEVENT
DTSTART;TZID=Australia/Sydney:20240204T083000
DTEND;TZID=Australia/Sydney:20240204T100000
DTSTAMP:20260423T075633
CREATED:20240108T235816Z
LAST-MODIFIED:20240108T235940Z
UID:3572-1707035400-1707040800@hunterriverdragons.com.au
SUMMARY:LEARN TO PADDLE - FREE BEGINNER SESSIONS
DESCRIPTION:Dragon Boating is an all inclusive paddle-driven water sport that is all about fun\, fitness and friendship. \nWhether you’re seeking a new challenge\, wanting to unleash your competitive spirit\, or looking to make new friends\, you should come and meet our team. \nHunter River Dragons are running four FREE “Learn to Paddle” sessions at Queens Wharf in Morpeth. \nCome and give it a go.
URL:https://hunterriverdragons.com.au/single_event/learn-to-paddle-free-beginner-sessions-2/
LOCATION:Morpeth Boat Ramp\, 3 Queens Wharf Road\, Morpeth\, NSW\, 2321\, Australia
END:VEVENT
BEGIN:VEVENT
DTSTART;TZID=Australia/Sydney:20240128T083000
DTEND;TZID=Australia/Sydney:20240128T100000
DTSTAMP:20260423T075633
CREATED:20240108T235214Z
LAST-MODIFIED:20240108T235214Z
UID:3569-1706430600-1706436000@hunterriverdragons.com.au
SUMMARY:LEARN TO PADDLE - FREE BEGINNER SESSIONS
DESCRIPTION:Dragon Boating is an all inclusive paddle-driven water sport that is all about fun\, fitness and friendship. \nWhether you’re seeking a new challenge\, wanting to unleash your competitive spirit\, or looking to make new friends\, you should come and meet our team. \nHunter River Dragons are running four FREE “Learn to Paddle” sessions at Queens Wharf in Morpeth. \nCome and give it a go.
URL:https://hunterriverdragons.com.au/single_event/learn-to-paddle-free-beginner-sessions/
LOCATION:Morpeth Boat Ramp\, 3 Queens Wharf Road\, Morpeth\, NSW\, 2321\, Australia
END:VEVENT
BEGIN:VEVENT
DTSTART;TZID=Australia/Sydney:20240126T080000
DTEND;TZID=Australia/Sydney:20240126T130000
DTSTAMP:20260423T075633
CREATED:20231214T090512Z
LAST-MODIFIED:20240108T234526Z
UID:3093-1706256000-1706274000@hunterriverdragons.com.au
SUMMARY:COME AND TRY - JANUARY 26\, 2024 - RAYMOND TERRACE
DESCRIPTION:Hunter River Dragons will be hosting a “Come and Try” event at Riverside Park\, Raymond Terrace on Friday 26 January 2024 between 8am to 1pm. \nCome and join Hunter River Dragons along with Newcastle Hunter Dragon Boat Club and Port Stephens Dragon Boat club for a great day of paddling fun. 
URL:https://hunterriverdragons.com.au/single_event/learn-to-paddle-australia-day-raymond-terrace/
LOCATION:Riverside Park\, Raymond Terrace\, Hunter Street\, Raymond Terrace\, NSW\, 2324\, Australia
END:VEVENT
BEGIN:VEVENT
DTSTART;TZID=Australia/Sydney:20231217T084500
DTEND;TZID=Australia/Sydney:20231217T100000
DTSTAMP:20260423T075633
CREATED:20231214T230256Z
LAST-MODIFIED:20231215T115701Z
UID:3100-1702802700-1702807200@hunterriverdragons.com.au
SUMMARY:TECHNIQUE SESSION
DESCRIPTION:Come and try our Technique Session at 8.45am 
URL:https://hunterriverdragons.com.au/single_event/technique-session/
LOCATION:Morpeth Boat Ramp\, 3 Queens Wharf Road\, Morpeth\, NSW\, 2321\, Australia
END:VEVENT
BEGIN:VEVENT
DTSTART;TZID=Australia/Sydney:20231216T160000
DTEND;TZID=Australia/Sydney:20231216T200000
DTSTAMP:20260423T075633
CREATED:20231211T000618Z
LAST-MODIFIED:20231211T000618Z
UID:2471-1702742400-1702756800@hunterriverdragons.com.au
SUMMARY:CHRISTMAS RAFFLE 2023 - Commercial Hotel
DESCRIPTION:Hunter River Dragon & Hinton Social Golf Association HSGA are running a combined raffle at the Commercial Hotel Morpeth. On the 16th of December from 4pm. Raffle tickets will sell for $1 a ticket.\nWith prizes galore.\n10 Half Hams\n5 Turkeys\n5 Puddings\nChocolate’s Packs\n& More\nWIN BIG\, WIN NOW!
URL:https://hunterriverdragons.com.au/single_event/christmas-raffle-2023-commercial-hotel/
LOCATION:Commercial Hotel\, 127 Swan Street\, Morpeth\, NSW\, 2321\, Australia
END:VEVENT
BEGIN:VEVENT
DTSTART;VALUE=DATE:20231210
DTEND;VALUE=DATE:20231211
DTSTAMP:20260423T075633
CREATED:20231204T030514Z
LAST-MODIFIED:20231209T061310Z
UID:2360-1702166400-1702252799@hunterriverdragons.com.au
SUMMARY:DBNSW Regatta Series 4
DESCRIPTION:DBNSW Regatta Series – Round 3 will take place on Sunday 10th December at Angle Park\, Chipping Norton. Racing will kick off at 8:00 am and wrap up late into the afternoon.
URL:https://hunterriverdragons.com.au/single_event/dbnsw-regatta-series-4/
LOCATION:Angle Park\, Chipping Norton\, Angle Park\, Chipping Norton\, NSW\, Australia
END:VEVENT
END:VCALENDAR