BEGIN:VCALENDAR
VERSION:2.0
PRODID:-//Hunter River Dragons - ECPv6.15.19//NONSGML v1.0//EN
CALSCALE:GREGORIAN
METHOD:PUBLISH
X-ORIGINAL-URL:https://hunterriverdragons.com.au
X-WR-CALDESC:Events for Hunter River Dragons
REFRESH-INTERVAL;VALUE=DURATION:PT1H
X-Robots-Tag:noindex
X-PUBLISHED-TTL:PT1H
BEGIN:VTIMEZONE
TZID:Australia/Sydney
BEGIN:STANDARD
TZOFFSETFROM:+1100
TZOFFSETTO:+1000
TZNAME:AEST
DTSTART:20230401T160000
END:STANDARD
BEGIN:DAYLIGHT
TZOFFSETFROM:+1000
TZOFFSETTO:+1100
TZNAME:AEDT
DTSTART:20230930T160000
END:DAYLIGHT
BEGIN:STANDARD
TZOFFSETFROM:+1100
TZOFFSETTO:+1000
TZNAME:AEST
DTSTART:20240406T160000
END:STANDARD
BEGIN:DAYLIGHT
TZOFFSETFROM:+1000
TZOFFSETTO:+1100
TZNAME:AEDT
DTSTART:20241005T160000
END:DAYLIGHT
BEGIN:STANDARD
TZOFFSETFROM:+1100
TZOFFSETTO:+1000
TZNAME:AEST
DTSTART:20250405T160000
END:STANDARD
BEGIN:DAYLIGHT
TZOFFSETFROM:+1000
TZOFFSETTO:+1100
TZNAME:AEDT
DTSTART:20251004T160000
END:DAYLIGHT
END:VTIMEZONE
BEGIN:VEVENT
DTSTART;TZID=Australia/Sydney:20240608T080000
DTEND;TZID=Australia/Sydney:20240609T153000
DTSTAMP:20260420T230646
CREATED:20240401T114017Z
LAST-MODIFIED:20240401T114106Z
UID:3790-1717833600-1717947000@hunterriverdragons.com.au
SUMMARY:FLAMIN' DRAGONS ANNUAL JUNE LONG WEEKEND REGATTA
DESCRIPTION:FDPMs annual Long Weekend Regatta will once again host 200m racing on Sunday and on Saturday 2000m turn-races as well as a 100m dash-for-cash! \n  \nAs in Flamin’ fashion\, the Saturday events will conclude with presentations and a celebration of Dragon Boating!
URL:https://hunterriverdragons.com.au/single_event/flamin-dragons-annual-june-long-weekend-regatta/
LOCATION:Rocks Ferry Reserve\, Rocks Ferry Road\, Wauchope\, NSW\, 2446\, Australia
END:VEVENT
END:VCALENDAR